BEGIN:VCALENDAR
VERSION:2.0
PRODID:-//KSM AP - ECPv//NONSGML v1.0//EN
CALSCALE:GREGORIAN
METHOD:PUBLISH
X-WR-CALNAME:KSM AP
X-ORIGINAL-URL:https://ksm.przemyska.pl
X-WR-CALDESC:Events for KSM AP
BEGIN:VEVENT
DTSTART;TZID=Europe/Warsaw:20180701T080000
DTEND;TZID=Europe/Warsaw:20180902T170000
DTSTAMP:20260424T052434
CREATED:20180702T070059Z
LAST-MODIFIED:20190507T194016Z
UID:1027-1530432000-1535907600@ksm.przemyska.pl
SUMMARY:Turnusy wakacyjne 2018
DESCRIPTION:Zachęcamy do zapisów na turnusy. Jest jeszcze kilka wolnych miejsc!\n\n \n[button url="https://ksm.przemyska.pl/turnusy-wakacyjne/" target="_blank" color="orange" size="large" border="false" icon="" btn_content="ZGŁOŚ SIĘ!"]
URL:https://ksm.przemyska.pl/event/turnusy-wakacyjne-2018/
LOCATION:Wybrzeże\, Dubiecko\, Polska
ATTACH;FMTTYPE=image/jpeg:https://ksm.przemyska.pl/files/2016/09/turnusy-wakacyjne.jpg
END:VEVENT
END:VCALENDAR